Workbook

Sheet Basic attendance rates
A1: Enter your data in the white-shaded cells in this table. Excel will calculate the rates in the tables below.
A2: Attendance data | B2: 1st Quarter | C2: 2nd Quarter | D2: 3rd Quarter | E2: 4th Quarter
A3: Number of students with disabilities (SWD) enrolled
A4: Total number of students enrolled
A5: Number of days in the quarter
A6: Total number of days missed by SWD in quarter
A7: Total number of days missed by all students in quarter
A10: Calculated absence rates: (% of total instructional time that students missed) | B10: 1st Quarter | C10: 2nd Quarter | D10: 3rd Quarter | E10: 4th Quarter
A11: SWD absence rate | B11: =B6/(B3*B5) -> #DIV/0! | C11: =C6/(C3*C5) -> #DIV/0! | D11: =D6/(D3*D5) -> #DIV/0! | E11: =E6/(E3*E5) -> #DIV/0!
A12: Students without disabilities absence rate | B12: =(B7-B6)/(B7*B5) -> #DIV/0! | C12: =(C7-C6)/(C7*C5) -> #DIV/0! | D12: =(D7-D6)/(D7*D5) -> #DIV/0! | E12: =(E7-E6)/(E7*E5) -> #DIV/0!
A13: All student absence rate | B13: =B7/(B4*B5) -> #DIV/0! | C13: =C7/(C4*C5) -> #DIV/0! | D13: =D7/(D4*D5) -> #DIV/0! | E13: =E7/(E4*E5) -> #DIV/0!
A14: Gap in rates between SWD and all students | B14: =B11-B13 -> #DIV/0! | C14: =C11-C13 -> #DIV/0! | D14: =D11-D13 -> #DIV/0! | E14: =E11-E13 -> #DIV/0!
A15: Gap in rates between SWD and students without disabilities | B15: =B11-B12 -> #DIV/0! | C15: =C11-C12 -> #DIV/0! | D15: =D11-D12 -> #DIV/0! | E15: =E11-E12 -> #DIV/0!
A18: Calculated attendance rates: (% of total instructional time students were present) | B18: 1st Quarter | C18: 2nd Quarter | D18: 3rd Quarter | E18: 4th Quarter
A19: SWD attendance rate | B19: =1-B11 -> #DIV/0! | C19: =1-C11 -> #DIV/0! | D19: =1-D11 -> #DIV/0! | E19: =1-E11 -> #DIV/0!
A20: Students without disabilities attendance rate | B20: =1-B12 -> #DIV/0! | C20: =1-C12 -> #DIV/0! | D20: =1-D12 -> #DIV/0! | E20: =1-E12 -> #DIV/0!
A21: All student attendance rate | B21: =1-B13 -> #DIV/0! | C21: =1-C13 -> #DIV/0! | D21: =1-D13 -> #DIV/0! | E21: =1-E13 -> #DIV/0!
A22: Gap in rates between SWD and all students | B22: =B21-B19 -> #DIV/0! | C22: =C21-C19 -> #DIV/0! | D22: =D21-D19 -> #DIV/0! | E22: =E21-E19 -> #DIV/0!
A23: Gap in rates between SWD and students without disabilities | B23: =B21-B20 -> #DIV/0! | C23: =C21-C20 -> #DIV/0! | D23: =D21-D20 -> #DIV/0! | E23: =E21-E20 -> #DIV/0!

Sheet Rates by attendance category
A1: Enter your data in the tables below. Excel will calculate absence rates in the tables at right and generate charts (in charts worksheet).
A2: Enter your First Quarter data in this table | B2: Breakdown of attendance data by categories of days absent | F2: Data entry check | I2: Absence Rates for Q1 | J2: Calculated First Quarter Absence Rates, by Category
B3: Number of students absent 0 to 2 days | C3: Number of students absent 3 to 5 days | D3: Number of students absent 6 to 9 days | E3: Number of students absent 10 or more days | F3: This cell should equal your enrollment | G3: Based on the first worksheet, your enrollment for this group was: | J3: % of students absent 0 to 2 days | K3: % of students absent 3 to 5 days | L3: % of students absent 6 to 9 days | M3: % of students absent 10 or more days
A4: Students with disabilities (SWD) absences | F4: =SUM(B4:E4) -> 0 | G4: ='Basic attendance rates'!B$3 -> 0 | I4: SWD | J4: =B4/G4 -> #DIV/0! | K4: =C4/G4 -> #DIV/0! | L4: =D4/G4 -> #DIV/0! | M4: =E4/G4 -> #DIV/0!
A5: All-student absences | F5: =SUM(B5:E5) -> 0 | G5: ='Basic attendance rates'!B$4 -> 0 | I5: Students without disabilities | J5: =B6/(G5-G4) -> #DIV/0! | K5: =C6/(G5-G4) -> #DIV/0! | L5: =D6/(G5-G4) -> #DIV/0! | M5: =E6/(G5-G4) -> #DIV/0!
A6: Students without disabilities absences | B6: =B5-B4 -> 0 | C6: =C5-C4 -> 0 | D6: =D5-D4 -> 0 | E6: =E5-E4 -> 0 | I6: All students | J6: =B5/G5 -> #DIV/0! | K6: =C5/G5 -> #DIV/0! | L6: =D5/G5 -> #DIV/0! | M6: =E5/G5 -> #DIV/0!
I7: Gap: SWD and all students | J7: =J6-J4 -> #DIV/0! | K7: =K6-K4 -> #DIV/0! | L7: =L6-L4 -> #DIV/0! | M7: =M6-M4 -> #DIV/0!
I8: Gap: SWD and students without disabilities | J8: =J5-J4 -> #DIV/0! | K8: =K5-K4 -> #DIV/0! | L8: =L5-L4 -> #DIV/0! | M8: =M5-M4 -> #DIV/0!
A10: Enter your Second Quarter data in this table | B10: Breakdown of attendance data by categories of days absent | F10: Data entry check | I10: Absence Rates for Q2 | J10: Calculated Second Quarter Absence Rates, by Category
B11: Number of students absent 0 to 2 days | C11: Number of students absent 3 to 5 days | D11: Number of students absent 6 to 9 days | E11: Number of students absent 10 or more days | F11: This cell should equal your enrollment | G11: Based on the first worksheet, your enrollment for this group was: | J11: % of students absent 0 to 2 days | K11: % of students absent 3 to 5 days | L11: % of students absent 6 to 9 days | M11: % of students absent 10 or more days
A12: SWD absences | F12: =SUM(B12:E12) -> 0 | G12: ='Basic attendance rates'!C$3 -> 0 | I12: SWD | J12: =B12/G12 -> #DIV/0! | K12: =C12/G12 -> #DIV/0! | L12: =D12/G12 -> #DIV/0! | M12: =E12/G12 -> #DIV/0!
A13: All-student absences | F13: =SUM(B13:E13) -> 0 | G13: ='Basic attendance rates'!C$4 -> 0 | I13: Students without disabilities | J13: =B14/(G13-G12) -> #DIV/0! | K13: =C14/(G13-G12) -> #DIV/0! | L13: =D14/(G13-G12) -> #DIV/0! | M13: =E14/(G13-G12) -> #DIV/0!
A14: Students without disabilities absences | B14: =B13-B12 -> 0 | C14: =C13-C12 -> 0 | D14: =D13-D12 -> 0 | E14: =E13-E12 -> 0 | I14: All students | J14: =B13/G13 -> #DIV/0! | K14: =C13/G13 -> #DIV/0! | L14: =D13/G13 -> #DIV/0! | M14: =E13/G13 -> #DIV/0!
I15: Gap: SWD and all students | J15: =J14-J12 -> #DIV/0! | K15: =K14-K12 -> #DIV/0! | L15: =L14-L12 -> #DIV/0! | M15: =M14-M12 -> #DIV/0!
I16: Gap: SWD and students without disabilities | J16: =J13-J12 -> #DIV/0! | K16: =K13-K12 -> #DIV/0! | L16: =L13-L12 -> #DIV/0! | M16: =M13-M12 -> #DIV/0!
A18: Enter your Third Quarter data in this table | B18: Breakdown of attendance data by categories of days absent | F18: Data entry check | I18: Absence Rates for Q3 | J18: Calculated Third Quarter Absence Rates, by Category
B19: Number of students absent 0 to 2 days | C19: Number of students absent 3 to 5 days | D19: Number of students absent 6 to 9 days | E19: Number of students absent 10 or more days | F19: This cell should equal your enrollment | G19: Based on the first worksheet, your enrollment for this group was: | J19: % of students absent 0 to 2 days | K19: % of students absent 3 to 5 days | L19: % of students absent 6 to 9 days | M19: % of students absent 10 or more days
A20: SWD absences | F20: =SUM(B20:E20) -> 0 | G20: ='Basic attendance rates'!D$3 -> 0 | I20: SWD | J20: =B20/G20 -> #DIV/0! | K20: =C20/G20 -> #DIV/0! | L20: =D20/G20 -> #DIV/0! | M20: =E20/G20 -> #DIV/0!
A21: All-student absences | F21: =SUM(B21:E21) -> 0 | G21: ='Basic attendance rates'!D$4 -> 0 | I21: Students without disabilities | J21: =B22/(G21-G20) -> #DIV/0! | K21: =C22/(G21-G20) -> #DIV/0! | L21: =D22/(G21-G20) -> #DIV/0! | M21: =E22/(G21-G20) -> #DIV/0!
A22: Students without disabilities absences | B22: =B21-B20 -> 0 | C22: =C21-C20 -> 0 | D22: =D21-D20 -> 0 | E22: =E21-E20 -> 0 | I22: All students | J22: =B21/G21 -> #DIV/0! | K22: =C21/G21 -> #DIV/0! | L22: =D21/G21 -> #DIV/0! | M22: =E21/G21 -> #DIV/0!
I23: Gap: SWD and all students | J23: =J22-J20 -> #DIV/0! | K23: =K22-K20 -> #DIV/0! | L23: =L22-L20 -> #DIV/0! | M23: =M22-M20 -> #DIV/0!
I24: Gap: SWD and students without disabilities | J24: =J21-J20 -> #DIV/0! | K24: =K21-K20 -> #DIV/0! | L24: =L21-L20 -> #DIV/0! | M24: =M21-M20 -> #DIV/0!
A26: Enter your Fourth Quarter data in this table | B26: Breakdown of attendance data by categories of days absent | F26: Data entry check | I26: Absence Rates for Q4 | J26: Calculated Fourth Quarter Absence Rates, by Category
B27: Number of students absent 0 to 2 days | C27: Number of students absent 3 to 5 days | D27: Number of students absent 6 to 9 days | E27: Number of students absent 10 or more days | F27: This cell should equal your enrollment | G27: Your enrollment for this group was: | J27: % of students absent 0 to 2 days | K27: % of students absent 3 to 5 days | L27: % of students absent 6 to 9 days | M27: % of students absent 10 or more days
A28: SWD absences | F28: =SUM(B28:E28) -> 0 | G28: ='Basic attendance rates'!E$3 -> 0 | I28: SWD | J28: =B28/G28 -> #DIV/0! | K28: =C28/G28 -> #DIV/0! | L28: =D28/G28 -> #DIV/0! | M28: =E28/G28 -> #DIV/0!
A29: All-student absences | F29: =SUM(B29:E29) -> 0 | G29: ='Basic attendance rates'!E$4 -> 0 | I29: Students without disabilities | J29: =B30/(G29-G28) -> #DIV/0! | K29: =C30/(G29-G28) -> #DIV/0! | L29: =D30/(G29-G28) -> #DIV/0! | M29: =E30/(G29-G28) -> #DIV/0!
A30: Students without disabilities absences | B30: =B29-B28 -> 0 | C30: =C29-C28 -> 0 | D30: =D29-D28 -> 0 | E30: =E29-E28 -> 0 | I30: All students | J30: =B29/G29 -> #DIV/0! | K30: =C29/G29 -> #DIV/0! | L30: =D29/G29 -> #DIV/0! | M30: =E29/G29 -> #DIV/0!
I31: Gap: SWD and all students | J31: =J30-J28 -> #DIV/0! | K31: =K30-K28 -> #DIV/0! | L31: =L30-L28 -> #DIV/0! | M31: =M30-M28 -> #DIV/0!
I32: Gap: SWD and students without disabilities | J32: =J29-J28 -> #DIV/0! | K32: =K29-K28 -> #DIV/0! | L32: =L29-L28 -> #DIV/0! | M32: =M29-M28 -> #DIV/0!

Sheet Charts
A1: NOTE: the vertical-axis scales in these charts vary automatically with the data. Be mindful of this when comparing one chart with another! You can set them manually to a consistent scale, if desired.
AN2: These are labels for the chart axes!
AN3: Q1 | AO3: Q2 | AP3: Q3 | AQ3: Q4
